BEGIN:VCALENDAR
VERSION:2.0
PRODID:icalendar-ruby
CALSCALE:GREGORIAN
METHOD:PUBLISH
BEGIN:VEVENT
DTSTAMP:20260425T112849Z
UID:3-579855@faogaim.net
DTSTART:20261101T160000Z
DTEND:20261101T173000Z
CLASS:PUBLIC
CREATED:20260424T214023
DESCRIPTION:Here is where you can inlcude the event information and descrip
 tion along with any registration information if needed.
LAST-MODIFIED:20260424T214023
LOCATION:8448 Flora Ave Kansas City\, Mo. 64131
SUMMARY:Sunday Service
URL;VALUE=URI:https://www.faogaim.net/events/sunday-service/2026-11-01
ATTACH;FILENAME=ben-white-292680-unsplash.jpg;FMTTYPE=image/jpeg:https://dq
 5pwpg1q8ru0.cloudfront.net/2025/04/02/17/31/16/a1edcc3e-66d1-446f-b977-b18
 45ce8bff3/ben-white-292680-unsplash.jpg
END:VEVENT
END:VCALENDAR
