BEGIN:VCALENDAR
VERSION:2.0
PRODID:icalendar-ruby
CALSCALE:GREGORIAN
METHOD:PUBLISH
BEGIN:VEVENT
DTSTAMP:20260421T035311Z
UID:9-569604@faogaim.net
DTSTART:20261014T233000Z
DTEND:20261015T013000Z
CLASS:PUBLIC
CREATED:20260420T201211
DESCRIPTION:We are learning about Spiritual Warfare and how to engage in it
 .  Join in person or on Google Meets.  Link will be posted!
LAST-MODIFIED:20260420T201211
LOCATION:8448 Flora Ave Kansas City\, Mo. 64131
SUMMARY:Kingdom Artillery Bible Class
URL;VALUE=URI:https://www.faogaim.net/events/kingdom-artillery-bible-class/
 2026-10-14
ATTACH;FILENAME=New-KA-Logo.png;FMTTYPE=image/png:https://dq5pwpg1q8ru0.clo
 udfront.net/2026/02/07/04/19/18/ea6971f1-83c6-4552-874e-9f3f45209b19/New-K
 A-Logo.png
END:VEVENT
END:VCALENDAR
